BEGIN:VCALENDAR
VERSION:2.0
PRODID:-//ChamberMaster//Event Calendar 2.0//EN
METHOD:PUBLISH
X-PUBLISHED-TTL:P1H
REFRESH-INTERVAL:P1H
CALSCALE:GREGORIAN
BEGIN:VTIMEZONE
TZID:America/Chicago
BEGIN:DAYLIGHT
RRULE:FREQ=YEARLY;BYMONTH=3;BYDAY=2SU
DTSTART:20070101T000000
TZOFFSETFROM:-0600
TZOFFSETTO:-0500
TZNAME:Central Daylight Time
END:DAYLIGHT
BEGIN:STANDARD
RRULE:FREQ=YEARLY;BYMONTH=11;BYDAY=1SU
DTSTART:20070101T000000
TZOFFSETFROM:-0500
TZOFFSETTO:-0600
TZNAME:Central Standard Time
END:STANDARD
END:VTIMEZONE
BEGIN:VEVENT
DTSTART;TZID=America/Chicago:20250930T173000
DTEND;TZID=America/Chicago:20250930T190000
X-MICROSOFT-CDO-ALLDAYEVENT:FALSE
SUMMARY:Code Literacy for Non-Coders: AI Use for Business (Intermediate)
DESCRIPTION:RSVP here:https://luma.com/9hbt9eh0?utm_source=chatgpt.comCode literacy is the new spreadsheet literacy. In the age of AI\, the ability to write a good prompt is no longer enough. The real advantage lies in leveraging AI to generate and problem-solve with code.This workshop teaches you to use AI as your personal co-pilot to solve common business problems. You'll learn to:Build prototypes: Go from idea to a live web page in minutes.Automate data tasks: Clean messy data with simple Python scripts.Optimize workflows: Create automations in Google Sheets and Docs using plain language.This is about actionable\, high-impact problem-solving not memorizing code. You'll walk away with the confidence to build "MacGyver solutions" that increase your efficiency and strategic value.
X-ALT-DESC;FMTTYPE=text/html:<!DOCTYPE html><html><head><title></title></head><body aria-disabled="false"><p>RSVP here:<a fr-original-style="" href="https://luma.com/9hbt9eh0?utm_source=chatgpt.com" style="user-select: auto\;">https://luma.com/9hbt9eh0?utm_source=chatgpt.com</a></p><p>Code literacy is the new spreadsheet literacy. In the age of AI\, the ability to write a good prompt is no longer enough. The real advantage lies in leveraging AI to generate and problem-solve with code.</p><p>This workshop teaches you to use AI as your personal co-pilot to solve common business problems. You&#39\;ll learn to:</p><ul fr-original-style="" style="list-style-position: inside\;"><li><strong fr-original-style="" style="font-weight: 700\;">Build prototypes:</strong> Go from idea to a live web page in minutes.</li><li><strong fr-original-style="" style="font-weight: 700\;">Automate data tasks:</strong> Clean messy data with simple Python scripts.</li><li><strong fr-original-style="" style="font-weight: 700\;">Optimize workflows:</strong> Create automations in Google Sheets and Docs using plain language.</li></ul><p>This is about actionable\, high-impact problem-solving&mdash\;not memorizing code. You&rsquo\;ll walk away with the confidence to build &quot\;MacGyver solutions&quot\; that increase your efficiency and strategic value.</p></body></html>
LOCATION:1500 First Avenue North The Training Room Birmingham AL 35203
UID:e.2007.1283224
SEQUENCE:3
DTSTAMP:20260420T102802Z
URL:https://hub.techbirmingham.com/events/Details/code-literacy-for-non-coders-ai-use-for-business-intermediate-1502473?sourceTypeId=Hub
END:VEVENT
END:VCALENDAR
